BEGIN:VCALENDAR
VERSION:2.0
PRODID:-//Preserving Democracy Coalition - ECPv6.15.20//NONSGML v1.0//EN
CALSCALE:GREGORIAN
METHOD:PUBLISH
X-WR-CALNAME:Preserving Democracy Coalition
X-ORIGINAL-URL:https://preservingdemocracycoalition.com
X-WR-CALDESC:Events for Preserving Democracy Coalition
REFRESH-INTERVAL;VALUE=DURATION:PT1H
X-Robots-Tag:noindex
X-PUBLISHED-TTL:PT1H
BEGIN:VTIMEZONE
TZID:America/Chicago
BEGIN:DAYLIGHT
TZOFFSETFROM:-0600
TZOFFSETTO:-0500
TZNAME:CDT
DTSTART:20240310T080000
END:DAYLIGHT
BEGIN:STANDARD
TZOFFSETFROM:-0500
TZOFFSETTO:-0600
TZNAME:CST
DTSTART:20241103T070000
END:STANDARD
BEGIN:DAYLIGHT
TZOFFSETFROM:-0600
TZOFFSETTO:-0500
TZNAME:CDT
DTSTART:20250309T080000
END:DAYLIGHT
BEGIN:STANDARD
TZOFFSETFROM:-0500
TZOFFSETTO:-0600
TZNAME:CST
DTSTART:20251102T070000
END:STANDARD
BEGIN:DAYLIGHT
TZOFFSETFROM:-0600
TZOFFSETTO:-0500
TZNAME:CDT
DTSTART:20260308T080000
END:DAYLIGHT
BEGIN:STANDARD
TZOFFSETFROM:-0500
TZOFFSETTO:-0600
TZNAME:CST
DTSTART:20261101T070000
END:STANDARD
END:VTIMEZONE
BEGIN:VEVENT
DTSTART;TZID=America/Chicago:20251012T170000
DTEND;TZID=America/Chicago:20251012T200000
DTSTAMP:20260421T154307
CREATED:20250924T194829Z
LAST-MODIFIED:20250925T134426Z
UID:577-1760288400-1760299200@preservingdemocracycoalition.com
SUMMARY:PDC Game Night
DESCRIPTION:  \nJoin your PDC friends for a fun “Game Night!”\nWhen: Sunday\, October 12th\, 5:00 pm – 8:00 pm \nWhere: Ron and Annette Franke’s Home – 116 Durango Trail\, Georgetown \nRSVP: Dar2dream337@gmail.com \nPlease RSVP and share your favorite game suggestion if you have one. \nThis is a “Potluck” – a signup sheet will be sent to those coming for bringing a dish to share. BYOB.
URL:https://preservingdemocracycoalition.com/event/pdc-game-night/
LOCATION:Franke’s Home\, 116 Durango Trail\, Georgetown\, TX\, 78633\, United States
ATTACH;FMTTYPE=image/png:https://preservingdemocracycoalition.com/wp-content/uploads/2025/09/Screenshot-2025-09-24-2.39.23-PM.png
END:VEVENT
BEGIN:VEVENT
DTSTART;TZID=America/Chicago:20251014T183000
DTEND;TZID=America/Chicago:20251014T203000
DTSTAMP:20260421T154307
CREATED:20250910T123238Z
LAST-MODIFIED:20250924T195053Z
UID:553-1760466600-1760473800@preservingdemocracycoalition.com
SUMMARY:Next PDC Meeting - October 14th
DESCRIPTION:Mark your calendars now! The next PDC Meeting will be held on Tuesday\, October 14th from 6:30 – 8:30 pm at the Retreat Amenity Center. Hope to see you there. Remember to check your email inbox for an eblast the day before the meeting; if you don’t see one\, please check your spam folder.
URL:https://preservingdemocracycoalition.com/event/next-pdc-meeting-october-14th/
LOCATION:Lone Star Room\, 1220 Cattleman Drive\, Georgetown\, TX\, 78633\, United States
ATTACH;FMTTYPE=image/jpeg:https://preservingdemocracycoalition.com/wp-content/uploads/2025/08/Meeting-pic-e1757507505823.jpeg
END:VEVENT
END:VCALENDAR