BEGIN:VCALENDAR
VERSION:2.0
PRODID:-//Preserving Democracy Coalition - ECPv6.15.20//NONSGML v1.0//EN
CALSCALE:GREGORIAN
METHOD:PUBLISH
X-WR-CALNAME:Preserving Democracy Coalition
X-ORIGINAL-URL:https://preservingdemocracycoalition.com
X-WR-CALDESC:Events for Preserving Democracy Coalition
REFRESH-INTERVAL;VALUE=DURATION:PT1H
X-Robots-Tag:noindex
X-PUBLISHED-TTL:PT1H
BEGIN:VTIMEZONE
TZID:America/Chicago
BEGIN:DAYLIGHT
TZOFFSETFROM:-0600
TZOFFSETTO:-0500
TZNAME:CDT
DTSTART:20250309T080000
END:DAYLIGHT
BEGIN:STANDARD
TZOFFSETFROM:-0500
TZOFFSETTO:-0600
TZNAME:CST
DTSTART:20251102T070000
END:STANDARD
BEGIN:DAYLIGHT
TZOFFSETFROM:-0600
TZOFFSETTO:-0500
TZNAME:CDT
DTSTART:20260308T080000
END:DAYLIGHT
BEGIN:STANDARD
TZOFFSETFROM:-0500
TZOFFSETTO:-0600
TZNAME:CST
DTSTART:20261101T070000
END:STANDARD
BEGIN:DAYLIGHT
TZOFFSETFROM:-0600
TZOFFSETTO:-0500
TZNAME:CDT
DTSTART:20270314T080000
END:DAYLIGHT
BEGIN:STANDARD
TZOFFSETFROM:-0500
TZOFFSETTO:-0600
TZNAME:CST
DTSTART:20271107T070000
END:STANDARD
END:VTIMEZONE
BEGIN:VEVENT
DTSTART;TZID=America/Chicago:20260127T183000
DTEND;TZID=America/Chicago:20260127T200000
DTSTAMP:20260421T120800
CREATED:20260109T145402Z
LAST-MODIFIED:20260127T012732Z
UID:645-1769538600-1769544000@preservingdemocracycoalition.com
SUMMARY:CANCELLED - PDC Meet and Greet - Stuart Whitlow
DESCRIPTION:CANCELLED DUE TO WEATHER\nJanuary 27th\, at 6:30 pm in The Oaks Room (301 Del Webb Blvd.\, Sun City\, Georgetown\, TX 78633) \nStuart Whitlow is running in the Democratic primary for U.S. House Texas District 31 on March 3\, 2026. He is vying for the chance to run against current Republican incumbent John Carter in November. He will address attendees and answer questions.
URL:https://preservingdemocracycoalition.com/event/pdc-meet-and-greet-stuart-whitlow/
LOCATION:The Oaks\, 301 Del Webb Blvd\, Georgetown\, TX\, 78633\, United States
ATTACH;FMTTYPE=image/png:https://preservingdemocracycoalition.com/wp-content/uploads/2025/11/Stuart-Whitlow.png
END:VEVENT
BEGIN:VEVENT
DTSTART;TZID=America/Chicago:20260203T183000
DTEND;TZID=America/Chicago:20260203T200000
DTSTAMP:20260421T120800
CREATED:20260123T143947Z
LAST-MODIFIED:20260123T144828Z
UID:658-1770143400-1770148800@preservingdemocracycoalition.com
SUMMARY:February PDC Meeting
DESCRIPTION:The next PDC General Meeting will be held on Tuesday\, February 3rd at 6:30 pm in the Lone Star Room at Retreat Amenity Center. John Ray will present a talk on “Preserving Democracy in Foreign Policy.” Come on out and learn more about how YOU can help preserve and defend our democracy. Invite your friends!
URL:https://preservingdemocracycoalition.com/event/february-pdc-meeting/
LOCATION:Lone Star Room\, 1220 Cattleman Drive\, Georgetown\, TX\, 78633\, United States
ATTACH;FMTTYPE=image/png:https://preservingdemocracycoalition.com/wp-content/uploads/2026/01/PDC-Meeting-Groupshot.png
END:VEVENT
BEGIN:VEVENT
DTSTART;TZID=America/Chicago:20260310T183000
DTEND;TZID=America/Chicago:20260310T200000
DTSTAMP:20260421T120800
CREATED:20260204T030538Z
LAST-MODIFIED:20260204T030538Z
UID:700-1773167400-1773172800@preservingdemocracycoalition.com
SUMMARY:March PDC Meeting
DESCRIPTION:The next PDC Meeting will be held on Tuesday\, March 10th at 6:30 pm in the Lonestar Room at Retreat Amenity Center. Come and join our community of like-minded folks who are aiming to make a difference in our country today. Bring a friend!
URL:https://preservingdemocracycoalition.com/event/march-pdc-meeting/
LOCATION:Lone Star Room\, 1220 Cattleman Drive\, Georgetown\, TX\, 78633\, United States
ATTACH;FMTTYPE=image/png:https://preservingdemocracycoalition.com/wp-content/uploads/2026/01/PDC-Meeting-Groupshot.png
END:VEVENT
BEGIN:VEVENT
DTSTART;TZID=America/Chicago:20260421T183000
DTEND;TZID=America/Chicago:20260421T200000
DTSTAMP:20260421T120800
CREATED:20260311T141729Z
LAST-MODIFIED:20260311T141729Z
UID:730-1776796200-1776801600@preservingdemocracycoalition.com
SUMMARY:April PDC Meeting
DESCRIPTION:The next PDC Meeting will be held on Tuesday\, April 21st at 6:30 pm in the Lone Star Room at Retreat Amenity Center. Come and join our community of like-minded folks who are aiming to make a difference in our country today. Bring a friend!
URL:https://preservingdemocracycoalition.com/event/april-pdc-meeting/
LOCATION:Lone Star Room\, 1220 Cattleman Drive\, Georgetown\, TX\, 78633\, United States
ATTACH;FMTTYPE=image/jpeg:https://preservingdemocracycoalition.com/wp-content/uploads/2026/03/March-10-PDC.jpeg
END:VEVENT
END:VCALENDAR