BEGIN:VCALENDAR
VERSION:2.0
PRODID:-//Preserving Democracy Coalition - ECPv6.15.20//NONSGML v1.0//EN
CALSCALE:GREGORIAN
METHOD:PUBLISH
X-ORIGINAL-URL:https://preservingdemocracycoalition.com
X-WR-CALDESC:Events for Preserving Democracy Coalition
REFRESH-INTERVAL;VALUE=DURATION:PT1H
X-Robots-Tag:noindex
X-PUBLISHED-TTL:PT1H
BEGIN:VTIMEZONE
TZID:America/Chicago
BEGIN:DAYLIGHT
TZOFFSETFROM:-0600
TZOFFSETTO:-0500
TZNAME:CDT
DTSTART:20240310T080000
END:DAYLIGHT
BEGIN:STANDARD
TZOFFSETFROM:-0500
TZOFFSETTO:-0600
TZNAME:CST
DTSTART:20241103T070000
END:STANDARD
BEGIN:DAYLIGHT
TZOFFSETFROM:-0600
TZOFFSETTO:-0500
TZNAME:CDT
DTSTART:20250309T080000
END:DAYLIGHT
BEGIN:STANDARD
TZOFFSETFROM:-0500
TZOFFSETTO:-0600
TZNAME:CST
DTSTART:20251102T070000
END:STANDARD
BEGIN:DAYLIGHT
TZOFFSETFROM:-0600
TZOFFSETTO:-0500
TZNAME:CDT
DTSTART:20260308T080000
END:DAYLIGHT
BEGIN:STANDARD
TZOFFSETFROM:-0500
TZOFFSETTO:-0600
TZNAME:CST
DTSTART:20261101T070000
END:STANDARD
END:VTIMEZONE
BEGIN:VEVENT
DTSTART;TZID=America/Chicago:20250718T100000
DTEND;TZID=America/Chicago:20250718T113000
DTSTAMP:20260419T134825
CREATED:20250706T163605Z
LAST-MODIFIED:20250706T163725Z
UID:501-1752832800-1752838200@preservingdemocracycoalition.com
SUMMARY:What Is Project 2025?
DESCRIPTION:Presentation for the Current Issues Club on Project 2025 by John Ray\n\nJuly 18\, 2025.  Meeting 10:00 am to 11:30 am.  Cowan Creek\, Georgetown/Florence Rooms.\nTopic:  What Is Project 2025?  Are Its Plans Being Used By the Current Administration?\nAll are welcome.
URL:https://preservingdemocracycoalition.com/event/what-is-project-2025/
LOCATION:Cowan Creek Amenity Center\, 1433 Cool Spring Way\, Georgetown\, TX\, 78633\, United States
CATEGORIES:Meeting
ATTACH;FMTTYPE=image/png:https://preservingdemocracycoalition.com/wp-content/uploads/2025/05/Calendar.png
END:VEVENT
BEGIN:VEVENT
DTSTART;TZID=America/Chicago:20250701T183000
DTEND;TZID=America/Chicago:20250701T203000
DTSTAMP:20260419T134825
CREATED:20250622T194137Z
LAST-MODIFIED:20250622T194137Z
UID:428-1751394600-1751401800@preservingdemocracycoalition.com
SUMMARY:PDC Meeting - July 1st
DESCRIPTION:Our next PDC Meeting is being held on July 1st\, starting at 6:30 pm in the Lone Star Room at Retreat Amenity Center. \nPlease come and be sure to invite a friend (or two!) PDC T-shirts will be available for sale.
URL:https://preservingdemocracycoalition.com/event/pdc-meeting-july-1st/
LOCATION:Lone Star Room\, 1220 Cattleman Drive\, Georgetown\, TX\, 78633\, United States
CATEGORIES:Meeting
END:VEVENT
BEGIN:VEVENT
DTSTART;TZID=America/Chicago:20250614T150000
DTEND;TZID=America/Chicago:20250614T200000
DTSTAMP:20260419T134825
CREATED:20250603T145800Z
LAST-MODIFIED:20250603T151255Z
UID:362-1749913200-1749931200@preservingdemocracycoalition.com
SUMMARY:Austin Kick Out the Clowns
DESCRIPTION:When you elect clowns\, they don’t become leaders. The country becomes a circus.\n\nThe event is from 5-7 pm for those who want to drive themselves.\n\nThere is also a bus for this rally leaving from Randall’s Parking Lot at 3:00 pm and will return at 8:00 pm.\n\nTo secure a seat on the bus\, contact Alayne Jurgens at jurgensalayne@gmail.com. This cost is $22.
URL:https://preservingdemocracycoalition.com/event/austin-kick-out-the-clowns/
LOCATION:Austin State Capitol\, 1100 Congress Ave\, Austin\, TX\, 78701
CATEGORIES:Meeting,Protest,Social Event
ATTACH;FMTTYPE=image/png:https://preservingdemocracycoalition.com/wp-content/uploads/2025/06/Your-paragraph-text-9.png
ORGANIZER;CN="Social Committee":MAILTO:DianaWeiss@gmail.com
END:VEVENT
END:VCALENDAR