BEGIN:VCALENDAR
VERSION:2.0
PRODID:-//Preserving Democracy Coalition - ECPv6.15.20//NONSGML v1.0//EN
CALSCALE:GREGORIAN
METHOD:PUBLISH
X-ORIGINAL-URL:https://preservingdemocracycoalition.com
X-WR-CALDESC:Events for Preserving Democracy Coalition
REFRESH-INTERVAL;VALUE=DURATION:PT1H
X-Robots-Tag:noindex
X-PUBLISHED-TTL:PT1H
BEGIN:VTIMEZONE
TZID:America/Chicago
BEGIN:DAYLIGHT
TZOFFSETFROM:-0600
TZOFFSETTO:-0500
TZNAME:CDT
DTSTART:20240310T080000
END:DAYLIGHT
BEGIN:STANDARD
TZOFFSETFROM:-0500
TZOFFSETTO:-0600
TZNAME:CST
DTSTART:20241103T070000
END:STANDARD
BEGIN:DAYLIGHT
TZOFFSETFROM:-0600
TZOFFSETTO:-0500
TZNAME:CDT
DTSTART:20250309T080000
END:DAYLIGHT
BEGIN:STANDARD
TZOFFSETFROM:-0500
TZOFFSETTO:-0600
TZNAME:CST
DTSTART:20251102T070000
END:STANDARD
BEGIN:DAYLIGHT
TZOFFSETFROM:-0600
TZOFFSETTO:-0500
TZNAME:CDT
DTSTART:20260308T080000
END:DAYLIGHT
BEGIN:STANDARD
TZOFFSETFROM:-0500
TZOFFSETTO:-0600
TZNAME:CST
DTSTART:20261101T070000
END:STANDARD
END:VTIMEZONE
BEGIN:VEVENT
DTSTART;TZID=America/Chicago:20250917T160000
DTEND;TZID=America/Chicago:20250917T190000
DTSTAMP:20260421T183404
CREATED:20250910T123958Z
LAST-MODIFIED:20250910T123958Z
UID:556-1758124800-1758135600@preservingdemocracycoalition.com
SUMMARY:PDC Happy Hour - 09/17/25
DESCRIPTION:A Happy Hour for PDC members and their guests\, will be held on Wednesday\, September 17th from 4:00 – 7:00 pm at Wriggley’s Pub in Sun City. Hope to see you all there!
URL:https://preservingdemocracycoalition.com/event/pdc-happy-hour-09-17-25/
LOCATION:Wriggley’s Pub\, 1530 Sun City Blvd.\, Georgetown\, TX\, 78633\, United States
END:VEVENT
END:VCALENDAR