BEGIN:VCALENDAR
VERSION:2.0
PRODID:-//Preserving Democracy Coalition - ECPv6.15.20//NONSGML v1.0//EN
CALSCALE:GREGORIAN
METHOD:PUBLISH
X-ORIGINAL-URL:https://preservingdemocracycoalition.com
X-WR-CALDESC:Events for Preserving Democracy Coalition
REFRESH-INTERVAL;VALUE=DURATION:PT1H
X-Robots-Tag:noindex
X-PUBLISHED-TTL:PT1H
BEGIN:VTIMEZONE
TZID:America/Chicago
BEGIN:DAYLIGHT
TZOFFSETFROM:-0600
TZOFFSETTO:-0500
TZNAME:CDT
DTSTART:20240310T080000
END:DAYLIGHT
BEGIN:STANDARD
TZOFFSETFROM:-0500
TZOFFSETTO:-0600
TZNAME:CST
DTSTART:20241103T070000
END:STANDARD
BEGIN:DAYLIGHT
TZOFFSETFROM:-0600
TZOFFSETTO:-0500
TZNAME:CDT
DTSTART:20250309T080000
END:DAYLIGHT
BEGIN:STANDARD
TZOFFSETFROM:-0500
TZOFFSETTO:-0600
TZNAME:CST
DTSTART:20251102T070000
END:STANDARD
BEGIN:DAYLIGHT
TZOFFSETFROM:-0600
TZOFFSETTO:-0500
TZNAME:CDT
DTSTART:20260308T080000
END:DAYLIGHT
BEGIN:STANDARD
TZOFFSETFROM:-0500
TZOFFSETTO:-0600
TZNAME:CST
DTSTART:20261101T070000
END:STANDARD
END:VTIMEZONE
BEGIN:VEVENT
DTSTART;TZID=America/Chicago:20250909T183000
DTEND;TZID=America/Chicago:20250909T203000
DTSTAMP:20260421T183527
CREATED:20250818T004254Z
LAST-MODIFIED:20250818T004254Z
UID:540-1757442600-1757449800@preservingdemocracycoalition.com
SUMMARY:September PDC Meeting
DESCRIPTION:  \nMark your calendars now for our next PDC Meeting on Tuesday\, September 9th at 6:30 pm in the Lone Star Room at Retreat Amenity Center. Bring some friends – the more the merrier!
URL:https://preservingdemocracycoalition.com/event/september-pdc-meeting/
LOCATION:Lone Star Room\, 1220 Cattleman Drive\, Georgetown\, TX\, 78633\, United States
ATTACH;FMTTYPE=image/jpeg:https://preservingdemocracycoalition.com/wp-content/uploads/2025/08/Meeting-pic-e1757507505823.jpeg
END:VEVENT
END:VCALENDAR