BEGIN:VCALENDAR
VERSION:2.0
PRODID:-//Preserving Democracy Coalition - ECPv6.15.20//NONSGML v1.0//EN
CALSCALE:GREGORIAN
METHOD:PUBLISH
X-ORIGINAL-URL:https://preservingdemocracycoalition.com
X-WR-CALDESC:Events for Preserving Democracy Coalition
REFRESH-INTERVAL;VALUE=DURATION:PT1H
X-Robots-Tag:noindex
X-PUBLISHED-TTL:PT1H
BEGIN:VTIMEZONE
TZID:America/Chicago
BEGIN:DAYLIGHT
TZOFFSETFROM:-0600
TZOFFSETTO:-0500
TZNAME:CDT
DTSTART:20240310T080000
END:DAYLIGHT
BEGIN:STANDARD
TZOFFSETFROM:-0500
TZOFFSETTO:-0600
TZNAME:CST
DTSTART:20241103T070000
END:STANDARD
BEGIN:DAYLIGHT
TZOFFSETFROM:-0600
TZOFFSETTO:-0500
TZNAME:CDT
DTSTART:20250309T080000
END:DAYLIGHT
BEGIN:STANDARD
TZOFFSETFROM:-0500
TZOFFSETTO:-0600
TZNAME:CST
DTSTART:20251102T070000
END:STANDARD
BEGIN:DAYLIGHT
TZOFFSETFROM:-0600
TZOFFSETTO:-0500
TZNAME:CDT
DTSTART:20260308T080000
END:DAYLIGHT
BEGIN:STANDARD
TZOFFSETFROM:-0500
TZOFFSETTO:-0600
TZNAME:CST
DTSTART:20261101T070000
END:STANDARD
END:VTIMEZONE
BEGIN:VEVENT
DTSTART;TZID=America/Chicago:20250701T183000
DTEND;TZID=America/Chicago:20250701T203000
DTSTAMP:20260421T212754
CREATED:20250622T194137Z
LAST-MODIFIED:20250622T194137Z
UID:428-1751394600-1751401800@preservingdemocracycoalition.com
SUMMARY:PDC Meeting - July 1st
DESCRIPTION:Our next PDC Meeting is being held on July 1st\, starting at 6:30 pm in the Lone Star Room at Retreat Amenity Center. \nPlease come and be sure to invite a friend (or two!) PDC T-shirts will be available for sale.
URL:https://preservingdemocracycoalition.com/event/pdc-meeting-july-1st/
LOCATION:Lone Star Room\, 1220 Cattleman Drive\, Georgetown\, TX\, 78633\, United States
CATEGORIES:Meeting
END:VEVENT
END:VCALENDAR